BEGIN:VCALENDAR
PRODID:-//eluceo/ical//2.0/EN
VERSION:2.0
CALSCALE:GREGORIAN
BEGIN:VEVENT
UID:casag/event/24058
DTSTAMP:20260420T073636Z
SUMMARY:NLH Satellite Main Event - 5 Tickets garantiert
DESCRIPTION:Texas Hold'em\nBUY-IN: € 50+10\nGARANTIE: 5 Tickets
URL:https://www.casinos.at/events/poker-kalender/detail/2025-05-03-nlh-sate
 llite-main-event-5-tickets-garantiert-velden
DTSTART:20250503T171500
DTEND:20250503T235900
LOCATION:Casino Velden\, Am Corso 17\, 9220 Velden
END:VEVENT
END:VCALENDAR
