BEGIN:VCALENDAR
PRODID:-//eluceo/ical//2.0/EN
VERSION:2.0
CALSCALE:GREGORIAN
BEGIN:VEVENT
UID:casag/event/24060
DTSTAMP:20260420T073707Z
SUMMARY:NLH Mega Satellite Main Event - 10 Tickets garantiert
DESCRIPTION:Texas Hold'em\nBUY-IN: € 50+10\nGARANTIE: 10 Tickets
URL:https://www.casinos.at/events/poker-kalender/detail/2025-05-13-nlh-mega
 -satellite-main-event-10-tickets-garantiert-velden
DTSTART:20250513T190000
DTEND:20250513T235900
LOCATION:Casino Velden\, Am Corso 17\, 9220 Velden
END:VEVENT
END:VCALENDAR
