BEGIN:VCALENDAR
PRODID:-//eluceo/ical//2.0/EN
VERSION:2.0
CALSCALE:GREGORIAN
BEGIN:VEVENT
UID:casag/event/24061
DTSTAMP:20260420T073611Z
SUMMARY:NLH CAPT Opening - € 15.000 garantiert
DESCRIPTION:Texas Hold'em\nBUY-IN: € 130+20\nGARANTIE: €€ 15.000
URL:https://www.casinos.at/events/poker-kalender/detail/2025-05-14-nlh-capt
 -opening-eur-15000-garantiert-velden
DTSTART:20250514T180000
DTEND:20250514T235900
LOCATION:Casino Velden\, Am Corso 17\, 9220 Velden
END:VEVENT
END:VCALENDAR
