BEGIN:VCALENDAR
PRODID:-//eluceo/ical//2.0/EN
VERSION:2.0
CALSCALE:GREGORIAN
BEGIN:VEVENT
UID:casag/event/24064
DTSTAMP:20260420T063341Z
SUMMARY:NLH Bounty
DESCRIPTION:Texas Hold'em\nBUY-IN: € 200+30
URL:https://www.casinos.at/events/poker-kalender/detail/2025-05-15-nlh-boun
 ty-velden
DTSTART:20250515T180000
DTEND:20250515T235900
LOCATION:Casino Velden\, Am Corso 17\, 9220 Velden
END:VEVENT
END:VCALENDAR
