BEGIN:VCALENDAR
PRODID:-//eluceo/ical//2.0/EN
VERSION:2.0
CALSCALE:GREGORIAN
BEGIN:VEVENT
UID:casag/event/24067
DTSTAMP:20260420T063455Z
SUMMARY:PLO
DESCRIPTION:Omaha\nBUY-IN: € 500+50
URL:https://www.casinos.at/events/poker-kalender/detail/2025-05-16-plo-veld
 en
DTSTART:20250516T160000
DTEND:20250516T235900
LOCATION:Casino Velden\, Am Corso 17\, 9220 Velden
END:VEVENT
END:VCALENDAR
