BEGIN:VCALENDAR
PRODID:-//eluceo/ical//2.0/EN
VERSION:2.0
CALSCALE:GREGORIAN
BEGIN:VEVENT
UID:casag/event/24221
DTSTAMP:20260420T013107Z
SUMMARY:Bingo mit Sammelpass im Casino Bregenz
DESCRIPTION:Spannung bis zur letzten Sekunde! Erlebe BINGO live im Casino B
 regenz und gewinne mit etwas Glück einen der tollen Preise.
URL:https://www.casinos.at/events/poker-kalender/detail/2026-01-25-bingo-mi
 t-sammelpass-im-casino-bregenz-bregenz
DTSTART:20260125T180000
DTEND:20260125T220000
LOCATION:Casino Bregenz\, Platz der Wiener Symphoniker 3\, 6900 Bregenz
END:VEVENT
END:VCALENDAR
