BEGIN:VCALENDAR
PRODID:-//eluceo/ical//2.0/EN
VERSION:2.0
CALSCALE:GREGORIAN
BEGIN:VEVENT
UID:casag/event/24223
DTSTAMP:20260420T063417Z
SUMMARY:NLH Main Event 1C
DESCRIPTION:Texas Hold'em\nBUY-IN: € 500+50
URL:https://www.casinos.at/events/poker-kalender/detail/2025-05-17-nlh-main
 -event-1c-velden
DTSTART:20250517T190000
DTEND:20250517T235900
LOCATION:Casino Velden\, Am Corso 17\, 9220 Velden
END:VEVENT
END:VCALENDAR
