BEGIN:VCALENDAR
PRODID:-//eluceo/ical//2.0/EN
VERSION:2.0
CALSCALE:GREGORIAN
BEGIN:VEVENT
UID:casag/event/29141
DTSTAMP:20260420T055750Z
SUMMARY:NLH Bounty € 100
DESCRIPTION:Texas Hold'em\nBUY-IN: € 300+30
URL:https://www.casinos.at/events/poker-kalender/detail/2025-07-16-nlh-boun
 ty-eur-100-velden
DTSTART:20250716T150000
DTEND:20250716T235900
LOCATION:Casino Velden\, Am Corso 17\, 9220 Velden
END:VEVENT
END:VCALENDAR
