BEGIN:VCALENDAR
PRODID:-//eluceo/ical//2.0/EN
VERSION:2.0
CALSCALE:GREGORIAN
BEGIN:VEVENT
UID:casag/event/29168
DTSTAMP:20260420T044117Z
SUMMARY:NLH Showdown am Wörthersee - Day 1A
DESCRIPTION:Texas Hold'em\nBUY-IN: € 500+50
URL:https://www.casinos.at/events/poker-kalender/detail/2025-07-17-nlh-show
 down-am-woerthersee-day-1a-velden-1
DTSTART:20250717T150000
DTEND:20250717T235900
LOCATION:Casino Velden\, Am Corso 17\, 9220 Velden
END:VEVENT
END:VCALENDAR
