BEGIN:VCALENDAR
PRODID:-//eluceo/ical//2.0/EN
VERSION:2.0
CALSCALE:GREGORIAN
BEGIN:VEVENT
UID:casag/event/29170
DTSTAMP:20260420T044105Z
SUMMARY:PL Omaha
DESCRIPTION:Omaha\nBUY-IN: € 200+30
URL:https://www.casinos.at/events/poker-kalender/detail/2025-07-17-pl-omaha
 -velden
DTSTART:20250717T160000
DTEND:20250717T235900
LOCATION:Casino Velden\, Am Corso 17\, 9220 Velden
END:VEVENT
END:VCALENDAR
