BEGIN:VCALENDAR
PRODID:-//eluceo/ical//2.0/EN
VERSION:2.0
CALSCALE:GREGORIAN
BEGIN:VEVENT
UID:casag/event/29172
DTSTAMP:20260420T044112Z
SUMMARY:NLH Ladies European Championship - Day 1
DESCRIPTION:Texas Hold'em\nBUY-IN: € 300+30
URL:https://www.casinos.at/events/poker-kalender/detail/2025-07-17-nlh-ladi
 es-european-championship-day-1-velden
DTSTART:20250717T200000
DTEND:20250717T235900
LOCATION:Casino Velden\, Am Corso 17\, 9220 Velden
END:VEVENT
END:VCALENDAR
