BEGIN:VCALENDAR
PRODID:-//eluceo/ical//2.0/EN
VERSION:2.0
CALSCALE:GREGORIAN
BEGIN:VEVENT
UID:casag/event/29178
DTSTAMP:20260420T043949Z
SUMMARY:NLH EC Showdown am Wörthersee - Day 1 C
DESCRIPTION:Texas Hold'em\nBUY-IN: € 500+50
URL:https://www.casinos.at/events/poker-kalender/detail/2025-07-19-nlh-ec-s
 howdown-am-woerthersee-day-1-c-velden-1
DTSTART:20250719T150000
DTEND:20250719T235900
LOCATION:Casino Velden\, Am Corso 17\, 9220 Velden
END:VEVENT
END:VCALENDAR
