BEGIN:VCALENDAR
PRODID:-//eluceo/ical//2.0/EN
VERSION:2.0
CALSCALE:GREGORIAN
BEGIN:VEVENT
UID:casag/event/29181
DTSTAMP:20260420T043949Z
SUMMARY:PL Omaha Satellite European Championship
DESCRIPTION:Omaha\nBUY-IN: € 200+30
URL:https://www.casinos.at/events/poker-kalender/detail/2025-07-19-pl-omaha
 -satellite-european-championship-velden-1
DTSTART:20250719T180000
DTEND:20250719T235900
LOCATION:Casino Velden\, Am Corso 17\, 9220 Velden
END:VEVENT
END:VCALENDAR
