BEGIN:VCALENDAR
PRODID:-//eluceo/ical//2.0/EN
VERSION:2.0
CALSCALE:GREGORIAN
BEGIN:VEVENT
UID:casag/event/29184
DTSTAMP:20260420T040907Z
SUMMARY:PL Omaha European Championship 8-handed - Day 1
DESCRIPTION:Omaha\nBUY-IN: € 2000+200
URL:https://www.casinos.at/events/poker-kalender/detail/2025-07-20-pl-omaha
 -european-championship-8-handed-day-1-velden-1
DTSTART:20250720T153000
DTEND:20250720T235900
LOCATION:Casino Velden\, Am Corso 17\, 9220 Velden
END:VEVENT
END:VCALENDAR
