BEGIN:VCALENDAR
PRODID:-//eluceo/ical//2.0/EN
VERSION:2.0
CALSCALE:GREGORIAN
BEGIN:VEVENT
UID:casag/event/29187
DTSTAMP:20260420T040934Z
SUMMARY:NLH Turbo Freezeout
DESCRIPTION:Texas Hold'em\nBUY-IN: € 300+30
URL:https://www.casinos.at/events/poker-kalender/detail/2025-07-20-nlh-turb
 o-freezeout-velden-1
DTSTART:20250720T200000
DTEND:20250720T235900
LOCATION:Casino Velden\, Am Corso 17\, 9220 Velden
END:VEVENT
END:VCALENDAR
