BEGIN:VCALENDAR
PRODID:-//eluceo/ical//2.0/EN
VERSION:2.0
CALSCALE:GREGORIAN
BEGIN:VEVENT
UID:casag/event/29190
DTSTAMP:20260420T041645Z
SUMMARY:NLH 6-handed European Championship - Day 1
DESCRIPTION:Texas Hold'em\nBUY-IN: € 800+80
URL:https://www.casinos.at/events/poker-kalender/detail/2025-07-21-nlh-6-ha
 nded-european-championship-day-1-velden-1
DTSTART:20250721T140000
DTEND:20250721T235900
LOCATION:Casino Velden\, Am Corso 17\, 9220 Velden
END:VEVENT
END:VCALENDAR
