BEGIN:VCALENDAR
PRODID:-//eluceo/ical//2.0/EN
VERSION:2.0
CALSCALE:GREGORIAN
BEGIN:VEVENT
UID:casag/event/29193
DTSTAMP:20260420T040821Z
SUMMARY:PL Omaha European Championship 8 - handed - Final Day
DESCRIPTION:Omaha\nBUY-IN: € 2000+200
URL:https://www.casinos.at/events/poker-kalender/detail/2025-07-21-pl-omaha
 -european-championship-8-handed-final-day-velden-1
DTSTART:20250721T151500
DTEND:20250721T235900
LOCATION:Casino Velden\, Am Corso 17\, 9220 Velden
END:VEVENT
END:VCALENDAR
