BEGIN:VCALENDAR
PRODID:-//eluceo/ical//2.0/EN
VERSION:2.0
CALSCALE:GREGORIAN
BEGIN:VEVENT
UID:casag/event/29196
DTSTAMP:20260420T040805Z
SUMMARY:PL Omaha High Roller
DESCRIPTION:Omaha\nBUY-IN: € 5000+400
URL:https://www.casinos.at/events/poker-kalender/detail/2025-07-21-pl-omaha
 -high-roller-velden-1
DTSTART:20250721T180000
DTEND:20250721T235900
LOCATION:Casino Velden\, Am Corso 17\, 9220 Velden
END:VEVENT
END:VCALENDAR
