BEGIN:VCALENDAR
PRODID:-//eluceo/ical//2.0/EN
VERSION:2.0
CALSCALE:GREGORIAN
BEGIN:VEVENT
UID:casag/event/29199
DTSTAMP:20260420T040805Z
SUMMARY:Limit Seven Card Stud European Championship - Day 1
DESCRIPTION:Seven Card Stud\nBUY-IN: € 400+40
URL:https://www.casinos.at/events/poker-kalender/detail/2025-07-21-limit-se
 ven-card-stud-european-championship-day-1-velden-1
DTSTART:20250721T200000
DTEND:20250721T235900
LOCATION:Casino Velden\, Am Corso 17\, 9220 Velden
END:VEVENT
END:VCALENDAR
