BEGIN:VCALENDAR
PRODID:-//eluceo/ical//2.0/EN
VERSION:2.0
CALSCALE:GREGORIAN
BEGIN:VEVENT
UID:casag/event/29211
DTSTAMP:20260420T025937Z
SUMMARY:NLH Satellite Main Event
DESCRIPTION:Texas Hold'em\nBUY-IN: € 300+30
URL:https://www.casinos.at/events/poker-kalender/detail/2025-07-23-nlh-sate
 llite-main-event-velden-1
DTSTART:20250723T120000
DTEND:20250723T235900
LOCATION:Casino Velden\, Am Corso 17\, 9220 Velden
END:VEVENT
END:VCALENDAR
