BEGIN:VCALENDAR
PRODID:-//eluceo/ical//2.0/EN
VERSION:2.0
CALSCALE:GREGORIAN
BEGIN:VEVENT
UID:casag/event/29214
DTSTAMP:20260420T041753Z
SUMMARY:NLH European Poker Championship Main Event - Day 1A
DESCRIPTION:Texas Hold'em\nBUY-IN: € 2500+250
URL:https://www.casinos.at/events/poker-kalender/detail/2025-07-23-nlh-euro
 pean-poker-championship-main-event-day-1a-velden-1
DTSTART:20250723T150000
DTEND:20250723T235900
LOCATION:Casino Velden\, Am Corso 17\, 9220 Velden
END:VEVENT
END:VCALENDAR
