BEGIN:VCALENDAR
PRODID:-//eluceo/ical//2.0/EN
VERSION:2.0
CALSCALE:GREGORIAN
BEGIN:VEVENT
UID:casag/event/29217
DTSTAMP:20260420T041717Z
SUMMARY:NLH High Roller European Championship - Final Day
DESCRIPTION:Texas Hold'em\nBUY-IN: € 5000+400
URL:https://www.casinos.at/events/poker-kalender/detail/2025-07-23-nlh-high
 -roller-european-championship-final-day-velden-1
DTSTART:20250723T150000
DTEND:20250723T235900
LOCATION:Casino Velden\, Am Corso 17\, 9220 Velden
END:VEVENT
END:VCALENDAR
