BEGIN:VCALENDAR
PRODID:-//eluceo/ical//2.0/EN
VERSION:2.0
CALSCALE:GREGORIAN
BEGIN:VEVENT
UID:casag/event/29220
DTSTAMP:20260420T030039Z
SUMMARY:NLH European Poker Championship Main Event - Day 1B
DESCRIPTION:Texas Hold'em\nBUY-IN: € 2500+250
URL:https://www.casinos.at/events/poker-kalender/detail/2025-07-24-nlh-euro
 pean-poker-championship-main-event-day-1b-velden-1
DTSTART:20250724T150000
DTEND:20250724T235900
LOCATION:Casino Velden\, Am Corso 17\, 9220 Velden
END:VEVENT
END:VCALENDAR
