BEGIN:VCALENDAR
PRODID:-//eluceo/ical//2.0/EN
VERSION:2.0
CALSCALE:GREGORIAN
BEGIN:VEVENT
UID:casag/event/29223
DTSTAMP:20260420T030211Z
SUMMARY:PL Omaha Bounty € 300
DESCRIPTION:Omaha\nBUY-IN: € 800+80
URL:https://www.casinos.at/events/poker-kalender/detail/2025-07-24-pl-omaha
 -bounty-eur-300-velden-1
DTSTART:20250724T153000
DTEND:20250724T235900
LOCATION:Casino Velden\, Am Corso 17\, 9220 Velden
END:VEVENT
END:VCALENDAR
