BEGIN:VCALENDAR
PRODID:-//eluceo/ical//2.0/EN
VERSION:2.0
CALSCALE:GREGORIAN
BEGIN:VEVENT
UID:casag/event/29247
DTSTAMP:20260420T025937Z
SUMMARY:NLH Wörthersee Poker Party - Day 1A
DESCRIPTION:Texas Hold'em\nBUY-IN: € 300+30
URL:https://www.casinos.at/events/poker-kalender/detail/2025-07-25-nlh-woer
 thersee-poker-party-day-1a-velden-1
DTSTART:20250725T153000
DTEND:20250725T235900
LOCATION:Casino Velden\, Am Corso 17\, 9220 Velden
END:VEVENT
END:VCALENDAR
