BEGIN:VCALENDAR
PRODID:-//eluceo/ical//2.0/EN
VERSION:2.0
CALSCALE:GREGORIAN
BEGIN:VEVENT
UID:casag/event/29250
DTSTAMP:20260420T030140Z
SUMMARY:NLH Mystery Bounty European Championship € 500 - Day 1
DESCRIPTION:Texas Hold'em\nBUY-IN: € 1000+100
URL:https://www.casinos.at/events/poker-kalender/detail/2025-07-25-nlh-myst
 ery-bounty-european-championship-eur-500-day-1-velden-1
DTSTART:20250725T180000
DTEND:20250725T235900
LOCATION:Casino Velden\, Am Corso 17\, 9220 Velden
END:VEVENT
END:VCALENDAR
