BEGIN:VCALENDAR
PRODID:-//eluceo/ical//2.0/EN
VERSION:2.0
CALSCALE:GREGORIAN
BEGIN:VEVENT
UID:casag/event/29252
DTSTAMP:20260420T022721Z
SUMMARY:NLH Wörthersee Poker Party - Day 1B
DESCRIPTION:BUY-IN: € 300+30
URL:https://www.casinos.at/events/poker-kalender/detail/2025-07-26-nlh-woer
 thersee-poker-party-day-1b-velden
DTSTART:20250726T153000
DTEND:20250726T235900
LOCATION:Casino Velden\, Am Corso 17\, 9220 Velden
END:VEVENT
END:VCALENDAR
