BEGIN:VCALENDAR
PRODID:-//eluceo/ical//2.0/EN
VERSION:2.0
CALSCALE:GREGORIAN
BEGIN:VEVENT
UID:casag/event/29255
DTSTAMP:20260420T022722Z
SUMMARY:NLH Mystery Bounty European Championship € 500 Final Day
DESCRIPTION:Texas Hold'em\nBUY-IN: € 1000+100
URL:https://www.casinos.at/events/poker-kalender/detail/2025-07-26-nlh-myst
 ery-bounty-european-championship-eur-500-final-day-velden-1
DTSTART:20250726T160000
DTEND:20250726T235900
LOCATION:Casino Velden\, Am Corso 17\, 9220 Velden
END:VEVENT
END:VCALENDAR
