BEGIN:VCALENDAR
PRODID:-//eluceo/ical//2.0/EN
VERSION:2.0
CALSCALE:GREGORIAN
BEGIN:VEVENT
UID:casag/event/29264
DTSTAMP:20260420T063236Z
SUMMARY:NLH Pokermania Deepstack XXL
DESCRIPTION:Texas Hold'em\nBUY-IN: € 130+20\nGARANTIE: €€ 8.000
URL:https://www.casinos.at/events/poker-kalender/detail/2025-05-22-nlh-poke
 rmania-deepstack-xxl-seefeld-1
DTSTART:20250522T170000
DTEND:20250522T235900
LOCATION:Casino Seefeld\, Bahnhofstraße 124\, 6100 Seefeld/Tirol
END:VEVENT
END:VCALENDAR
