BEGIN:VCALENDAR
PRODID:-//eluceo/ical//2.0/EN
VERSION:2.0
CALSCALE:GREGORIAN
BEGIN:VEVENT
UID:casag/event/29267
DTSTAMP:20260420T055628Z
SUMMARY:NLH Pokermania Bounty € 50
DESCRIPTION:Texas Hold'em\nBUY-IN: € 200+30\nGARANTIE: €€ 12.000
URL:https://www.casinos.at/events/poker-kalender/detail/2025-05-23-nlh-poke
 rmania-bounty-eur-50-seefeld-1
DTSTART:20250523T170000
DTEND:20250523T235900
LOCATION:Casino Seefeld\, Bahnhofstraße 124\, 6100 Seefeld/Tirol
END:VEVENT
END:VCALENDAR
