BEGIN:VCALENDAR
PRODID:-//eluceo/ical//2.0/EN
VERSION:2.0
CALSCALE:GREGORIAN
BEGIN:VEVENT
UID:casag/event/29271
DTSTAMP:20260420T055515Z
SUMMARY:NLH Pokermania Main Event Classic
DESCRIPTION:Texas Hold'em\nBUY-IN: € 200+30\nGARANTIE: €€ 12.000
URL:https://www.casinos.at/events/poker-kalender/detail/2025-05-24-nlh-poke
 rmania-main-event-classic-seefeld-1
DTSTART:20250524T170000
DTEND:20250524T235900
LOCATION:Casino Seefeld\, Bahnhofstraße 124\, 6100 Seefeld/Tirol
END:VEVENT
END:VCALENDAR
