BEGIN:VCALENDAR
PRODID:-//eluceo/ical//2.0/EN
VERSION:2.0
CALSCALE:GREGORIAN
BEGIN:VEVENT
UID:casag/event/29299
DTSTAMP:20260420T044117Z
SUMMARY:NLH Ladies European Championship - Final Day
DESCRIPTION:Texas Hold'em\nBUY-IN: € 300+30
URL:https://www.casinos.at/events/poker-kalender/detail/2025-07-18-nlh-ladi
 es-european-championship-final-day-velden-1
DTSTART:20250718T150000
DTEND:20250718T235900
LOCATION:Casino Velden\, Am Corso 17\, 9220 Velden
END:VEVENT
END:VCALENDAR
