BEGIN:VCALENDAR
PRODID:-//eluceo/ical//2.0/EN
VERSION:2.0
CALSCALE:GREGORIAN
BEGIN:VEVENT
UID:casag/event/29304
DTSTAMP:20260420T040902Z
SUMMARY:NLH 6-handed European Championship - Final Day
DESCRIPTION:Texas Hold'em\nBUY-IN: € 800+80
URL:https://www.casinos.at/events/poker-kalender/detail/2025-07-22-nlh-6-ha
 nded-european-championship-final-day-velden
DTSTART:20250722T150000
DTEND:20250722T235900
LOCATION:Casino Velden\, Am Corso 17\, 9220 Velden
END:VEVENT
END:VCALENDAR
