BEGIN:VCALENDAR
PRODID:-//eluceo/ical//2.0/EN
VERSION:2.0
CALSCALE:GREGORIAN
BEGIN:VEVENT
UID:casag/event/29317
DTSTAMP:20260420T041716Z
SUMMARY:Limit Seven Card Stud European Championship - Final Day
DESCRIPTION:Seven Card Stud\nBUY-IN: € 400+40
URL:https://www.casinos.at/events/poker-kalender/detail/2025-07-22-limit-se
 ven-card-stud-european-championship-final-day-velden
DTSTART:20250722T150000
DTEND:20250722T235900
LOCATION:Casino Velden\, Am Corso 17\, 9220 Velden
END:VEVENT
END:VCALENDAR
