BEGIN:VCALENDAR
PRODID:-//eluceo/ical//2.0/EN
VERSION:2.0
CALSCALE:GREGORIAN
BEGIN:VEVENT
UID:casag/event/29381
DTSTAMP:20260420T022733Z
SUMMARY:NLH Wörthersee Poker Party - Final Day
DESCRIPTION:Texas Hold'em\nBUY-IN: € 300+30
URL:https://www.casinos.at/events/poker-kalender/detail/2025-07-27-nlh-woer
 thersee-poker-party-final-day-velden-1
DTSTART:20250727T150000
DTEND:20250727T235900
LOCATION:Casino Velden\, Am Corso 17\, 9220 Velden
END:VEVENT
END:VCALENDAR
