BEGIN:VCALENDAR
PRODID:-//eluceo/ical//2.0/EN
VERSION:2.0
CALSCALE:GREGORIAN
BEGIN:VEVENT
UID:casag/event/30268
DTSTAMP:20260420T022721Z
SUMMARY:NLH Ferragosto Mania Deepstack XL
DESCRIPTION:Texas Hold'em\nBUY-IN: € 100+20\nGARANTIE: €€ 6.000
URL:https://www.casinos.at/events/poker-kalender/detail/2025-07-30-nlh-ferr
 agosto-mania-deepstack-xl-seefeld-1
DTSTART:20250730T180000
DTEND:20250730T235900
LOCATION:Casino Seefeld\, Bahnhofstraße 124\, 6100 Seefeld/Tirol
END:VEVENT
END:VCALENDAR
