BEGIN:VCALENDAR
PRODID:-//eluceo/ical//2.0/EN
VERSION:2.0
CALSCALE:GREGORIAN
BEGIN:VEVENT
UID:casag/event/30270
DTSTAMP:20260420T022835Z
SUMMARY:NLH Ferragosto Mania Deepstack XXL
DESCRIPTION:Texas Hold'em\nBUY-IN: € 130+20\nGARANTIE: €€ 8.000
URL:https://www.casinos.at/events/poker-kalender/detail/2025-07-31-nlh-ferr
 agosto-mania-deepstack-xxl-seefeld
DTSTART:20250731T170000
DTEND:20250731T235900
LOCATION:Casino Seefeld\, Bahnhofstraße 124\, 6100 Seefeld/Tirol
END:VEVENT
END:VCALENDAR
