BEGIN:VCALENDAR
PRODID:-//eluceo/ical//2.0/EN
VERSION:2.0
CALSCALE:GREGORIAN
BEGIN:VEVENT
UID:casag/event/30273
DTSTAMP:20260420T022732Z
SUMMARY:NLH Ferragosto Mania Progressive Bounty € 100
DESCRIPTION:Texas Hold'em\nBUY-IN: € 200+30\nGARANTIE: €€ 12.000
URL:https://www.casinos.at/events/poker-kalender/detail/2025-08-01-nlh-ferr
 agosto-mania-progressive-bounty-eur-100-seefeld-1
DTSTART:20250801T170000
DTEND:20250801T235900
LOCATION:Casino Seefeld\, Bahnhofstraße 124\, 6100 Seefeld/Tirol
END:VEVENT
END:VCALENDAR
