BEGIN:VCALENDAR
PRODID:-//eluceo/ical//2.0/EN
VERSION:2.0
CALSCALE:GREGORIAN
BEGIN:VEVENT
UID:casag/event/30298
DTSTAMP:20260420T073459Z
SUMMARY:NLH CLASSIC - BRING YOUR FRIEND
DESCRIPTION:Texas Hold'em\nBUY-IN: € 50+10\nGARANTIE: €€ 2.000
URL:https://www.casinos.at/events/poker-kalender/detail/2025-05-05-nlh-clas
 sic-bring-your-friend-innsbruck
DTSTART:20250505T182000
DTEND:20250505T235900
LOCATION:Casino Innsbruck\, Salurner Straße 15\, 6020 Innsbruck
END:VEVENT
END:VCALENDAR
