BEGIN:VCALENDAR
PRODID:-//eluceo/ical//2.0/EN
VERSION:2.0
CALSCALE:GREGORIAN
BEGIN:VEVENT
UID:casag/event/30449
DTSTAMP:20260419T212417Z
SUMMARY:CAPT MILLION DAY 1 (2 of 2)
DESCRIPTION:Texas Hold'em\nBUY-IN: € 500+50\nGARANTIE: €€ 1 Mio
URL:https://www.casinos.at/events/poker-kalender/detail/2025-11-23-capt-mil
 lion-day-1-2-of-2-baden
DTSTART:20251123T150000
DTEND:20251123T235900
LOCATION:Casino Baden\, Kaiser-Franz-Ring 1\, 2500 Baden
END:VEVENT
END:VCALENDAR
