BEGIN:VCALENDAR
PRODID:-//eluceo/ical//2.0/EN
VERSION:2.0
CALSCALE:GREGORIAN
BEGIN:VEVENT
UID:casag/event/30454
DTSTAMP:20260419T212712Z
SUMMARY:CAPT Million Satellite für PLO Turnier
DESCRIPTION:Omaha\nBUY-IN: € 100+20
URL:https://www.casinos.at/events/poker-kalender/detail/2025-11-23-satellit
 e-fuer-plo-turnier-baden
DTSTART:20251123T160000
DTEND:20251123T235900
LOCATION:Casino Baden\, Kaiser-Franz-Ring 1\, 2500 Baden
END:VEVENT
END:VCALENDAR
