BEGIN:VCALENDAR
PRODID:-//eluceo/ical//2.0/EN
VERSION:2.0
CALSCALE:GREGORIAN
BEGIN:VEVENT
UID:casag/event/30458
DTSTAMP:20260419T212538Z
SUMMARY:CAPT MILLION Mega Satellite
DESCRIPTION:Texas Hold'em\nBUY-IN: € 50+10\nGARANTIE: 10 Tickets für die
  CAPT Million 2025
URL:https://www.casinos.at/events/poker-kalender/detail/2025-11-20-capt-mil
 lion-mega-satellite-baden-1
DTSTART:20251124T160000
DTEND:20251124T235900
LOCATION:Casino Baden\, Kaiser-Franz-Ring 1\, 2500 Baden
END:VEVENT
END:VCALENDAR
