BEGIN:VCALENDAR
PRODID:-//eluceo/ical//2.0/EN
VERSION:2.0
CALSCALE:GREGORIAN
BEGIN:VEVENT
UID:casag/event/30460
DTSTAMP:20260419T212559Z
SUMMARY:CAPT Million PLO Turnier
DESCRIPTION:Omaha\nBUY-IN: € 800+80
URL:https://www.casinos.at/events/poker-kalender/detail/2025-11-24-capt-mil
 lion-plo-turnier-baden
DTSTART:20251124T170000
DTEND:20251124T235900
LOCATION:Casino Baden\, Kaiser-Franz-Ring 1\, 2500 Baden
END:VEVENT
END:VCALENDAR
