BEGIN:VCALENDAR
PRODID:-//eluceo/ical//2.0/EN
VERSION:2.0
CALSCALE:GREGORIAN
BEGIN:VEVENT
UID:casag/event/30462
DTSTAMP:20260419T212605Z
SUMMARY:CAPT MILLION Satellite für High Roller Turnier
DESCRIPTION:Texas Hold'em\nBUY-IN: € 200+30
URL:https://www.casinos.at/events/poker-kalender/detail/2025-11-24-capt-mil
 lion-satellite-fuer-high-roller-turnier-baden
DTSTART:20251124T180000
DTEND:20251124T235900
LOCATION:Casino Baden\, Kaiser-Franz-Ring 1\, 2500 Baden
END:VEVENT
END:VCALENDAR
