BEGIN:VCALENDAR
PRODID:-//eluceo/ical//2.0/EN
VERSION:2.0
CALSCALE:GREGORIAN
BEGIN:VEVENT
UID:casag/event/30468
DTSTAMP:20260419T212538Z
SUMMARY:CAPT MILLION High Roller (Day 1 of 2)
DESCRIPTION:Texas Hold'em\nBUY-IN: € 2000+200
URL:https://www.casinos.at/events/poker-kalender/detail/2025-11-25-capt-mil
 lion-high-roller-day-1-of-2-baden
DTSTART:20251125T200000
DTEND:20251125T235900
LOCATION:Casino Baden\, Kaiser-Franz-Ring 1\, 2500 Baden
END:VEVENT
END:VCALENDAR
