BEGIN:VCALENDAR
PRODID:-//eluceo/ical//2.0/EN
VERSION:2.0
CALSCALE:GREGORIAN
BEGIN:VEVENT
UID:casag/event/30470
DTSTAMP:20260419T200641Z
SUMMARY:CAPT MILLION High Roller (Day 2 of 2) 
DESCRIPTION:Texas Hold'em\nBUY-IN: € 2000+200
URL:https://www.casinos.at/events/poker-kalender/detail/2025-11-26-capt-mil
 lion-high-roller-day-2-of-2-baden
DTSTART:20251126T153000
DTEND:20251126T235900
LOCATION:Casino Baden\, Kaiser-Franz-Ring 1\, 2500 Baden
END:VEVENT
END:VCALENDAR
