BEGIN:VCALENDAR
PRODID:-//eluceo/ical//2.0/EN
VERSION:2.0
CALSCALE:GREGORIAN
BEGIN:VEVENT
UID:casag/event/30475
DTSTAMP:20260419T212605Z
SUMMARY:Flip & Go für CAPT MILLION
DESCRIPTION:Texas Hold'em\nBUY-IN: € 50+10
URL:https://www.casinos.at/events/poker-kalender/detail/2025-11-26-flip-go-
 fuer-capt-million-baden
DTSTART:20251126T230000
DTEND:20251126T235900
LOCATION:Casino Baden\, Kaiser-Franz-Ring 1\, 2500 Baden
END:VEVENT
END:VCALENDAR
