BEGIN:VCALENDAR
PRODID:-//eluceo/ical//2.0/EN
VERSION:2.0
CALSCALE:GREGORIAN
BEGIN:VEVENT
UID:casag/event/30479
DTSTAMP:20260419T200722Z
SUMMARY:CAPT MILLION Satellite
DESCRIPTION:Texas Hold'em\nBUY-IN: € 50+10
URL:https://www.casinos.at/events/poker-kalender/detail/2025-11-27-capt-mil
 lion-satellite-baden
DTSTART:20251127T160000
DTEND:20251127T235900
LOCATION:Casino Baden\, Kaiser-Franz-Ring 1\, 2500 Baden
END:VEVENT
END:VCALENDAR
