BEGIN:VCALENDAR
PRODID:-//eluceo/ical//2.0/EN
VERSION:2.0
CALSCALE:GREGORIAN
BEGIN:VEVENT
UID:casag/event/30501
DTSTAMP:20260419T200721Z
SUMMARY:CAPT MILLION Mystery Bounty
DESCRIPTION:Texas Hold'em\nBUY-IN: € 800+80
URL:https://www.casinos.at/events/poker-kalender/detail/2025-11-29-capt-mil
 lion-mystery-bounty-baden
DTSTART:20251129T160000
DTEND:20251129T235900
LOCATION:Casino Baden\, Kaiser-Franz-Ring 1\, 2500 Baden
END:VEVENT
END:VCALENDAR
