BEGIN:VCALENDAR
PRODID:-//eluceo/ical//2.0/EN
VERSION:2.0
CALSCALE:GREGORIAN
BEGIN:VEVENT
UID:casag/event/30503
DTSTAMP:20260419T212713Z
SUMMARY:CAPT MILLION DAY 3
DESCRIPTION:Texas Hold'em\nBUY-IN: € 500+50\nGARANTIE: €€ 1 Mio
URL:https://www.casinos.at/events/poker-kalender/detail/2025-11-30-capt-mil
 lion-day-3-baden
DTSTART:20251130T150000
DTEND:20251130T235900
LOCATION:Casino Baden\, Kaiser-Franz-Ring 1\, 2500 Baden
END:VEVENT
END:VCALENDAR
